BEGIN:VCALENDAR
VERSION:2.0
PRODID:-//Grace Browning Parliamentary Unit - ECPv6.15.20//NONSGML v1.0//EN
CALSCALE:GREGORIAN
METHOD:PUBLISH
X-WR-CALNAME:Grace Browning Parliamentary Unit
X-ORIGINAL-URL:https://gracebrowningbham.com
X-WR-CALDESC:Events for Grace Browning Parliamentary Unit
REFRESH-INTERVAL;VALUE=DURATION:PT1H
X-Robots-Tag:noindex
X-PUBLISHED-TTL:PT1H
BEGIN:VTIMEZONE
TZID:UTC
BEGIN:STANDARD
TZOFFSETFROM:+0000
TZOFFSETTO:+0000
TZNAME:UTC
DTSTART:20220101T000000
END:STANDARD
END:VTIMEZONE
BEGIN:VEVENT
DTSTART;VALUE=DATE:20230326
DTEND;VALUE=DATE:20230327
DTSTAMP:20260425T193925
CREATED:20230121T235636Z
LAST-MODIFIED:20230524T214353Z
UID:207-1679788800-1679875199@gracebrowningbham.com
SUMMARY:Unit Meeting
DESCRIPTION:
URL:https://gracebrowningbham.com/event/unit-meeting-3/
LOCATION:TBD\, Birmingham\, AL\, United States
CATEGORIES:unit meeting
ATTACH;FMTTYPE=image/jpeg:https://gracebrowningbham.com/wp-content/uploads/2023/01/CALENDAR2.jpg
ORGANIZER;CN="Grace Browning Parliamentary Unit":MAILTO:info@gracebrowningbham.com
END:VEVENT
END:VCALENDAR