BEGIN:VCALENDAR
VERSION:2.0
PRODID:-//Grace Browning Parliamentary Unit - ECPv6.15.20//NONSGML v1.0//EN
CALSCALE:GREGORIAN
METHOD:PUBLISH
X-ORIGINAL-URL:https://gracebrowningbham.com
X-WR-CALDESC:Events for Grace Browning Parliamentary Unit
REFRESH-INTERVAL;VALUE=DURATION:PT1H
X-Robots-Tag:noindex
X-PUBLISHED-TTL:PT1H
BEGIN:VTIMEZONE
TZID:UTC
BEGIN:STANDARD
TZOFFSETFROM:+0000
TZOFFSETTO:+0000
TZNAME:UTC
DTSTART:20220101T000000
END:STANDARD
END:VTIMEZONE
BEGIN:VTIMEZONE
TZID:America/Chicago
BEGIN:DAYLIGHT
TZOFFSETFROM:-0600
TZOFFSETTO:-0500
TZNAME:CDT
DTSTART:20220313T080000
END:DAYLIGHT
BEGIN:STANDARD
TZOFFSETFROM:-0500
TZOFFSETTO:-0600
TZNAME:CST
DTSTART:20221106T070000
END:STANDARD
BEGIN:DAYLIGHT
TZOFFSETFROM:-0600
TZOFFSETTO:-0500
TZNAME:CDT
DTSTART:20230312T080000
END:DAYLIGHT
BEGIN:STANDARD
TZOFFSETFROM:-0500
TZOFFSETTO:-0600
TZNAME:CST
DTSTART:20231105T070000
END:STANDARD
BEGIN:DAYLIGHT
TZOFFSETFROM:-0600
TZOFFSETTO:-0500
TZNAME:CDT
DTSTART:20240310T080000
END:DAYLIGHT
BEGIN:STANDARD
TZOFFSETFROM:-0500
TZOFFSETTO:-0600
TZNAME:CST
DTSTART:20241103T070000
END:STANDARD
END:VTIMEZONE
BEGIN:VEVENT
DTSTART;TZID=UTC:20230924T140000
DTEND;TZID=UTC:20230924T150000
DTSTAMP:20260421T065622
CREATED:20230122T010453Z
LAST-MODIFIED:20230825T044206Z
UID:212-1695564000-1695567600@gracebrowningbham.com
SUMMARY:Unit Meeting
DESCRIPTION:
URL:https://gracebrowningbham.com/event/unit-meeting/
LOCATION:Zoom
CATEGORIES:unit meeting
ATTACH;FMTTYPE=image/jpeg:https://gracebrowningbham.com/wp-content/uploads/2023/01/CALENDAR2.jpg
ORGANIZER;CN="Grace Browning Parliamentary Unit":MAILTO:info@gracebrowningbham.com
END:VEVENT
BEGIN:VEVENT
DTSTART;TZID=America/Chicago:20230525T183000
DTEND;TZID=America/Chicago:20230525T193000
DTSTAMP:20260421T065622
CREATED:20230122T010429Z
LAST-MODIFIED:20230524T214310Z
UID:210-1685039400-1685043000@gracebrowningbham.com
SUMMARY:Unit Meeting
DESCRIPTION:
URL:https://gracebrowningbham.com/event/unit-meeting-2/
LOCATION:TBD\, Birmingham\, AL\, United States
CATEGORIES:unit meeting
ATTACH;FMTTYPE=image/jpeg:https://gracebrowningbham.com/wp-content/uploads/2023/01/CALENDAR2.jpg
ORGANIZER;CN="Grace Browning Parliamentary Unit":MAILTO:info@gracebrowningbham.com
END:VEVENT
BEGIN:VEVENT
DTSTART;VALUE=DATE:20230326
DTEND;VALUE=DATE:20230327
DTSTAMP:20260421T065622
CREATED:20230121T235636Z
LAST-MODIFIED:20230524T214353Z
UID:207-1679788800-1679875199@gracebrowningbham.com
SUMMARY:Unit Meeting
DESCRIPTION:
URL:https://gracebrowningbham.com/event/unit-meeting-3/
LOCATION:TBD\, Birmingham\, AL\, United States
CATEGORIES:unit meeting
ATTACH;FMTTYPE=image/jpeg:https://gracebrowningbham.com/wp-content/uploads/2023/01/CALENDAR2.jpg
ORGANIZER;CN="Grace Browning Parliamentary Unit":MAILTO:info@gracebrowningbham.com
END:VEVENT
END:VCALENDAR